BEGIN:VCALENDAR
VERSION:2.0
PRODID:-//ChamberMaster//Event Calendar 2.0//EN
METHOD:PUBLISH
X-PUBLISHED-TTL:P3D
REFRESH-INTERVAL:P3D
CALSCALE:GREGORIAN
BEGIN:VEVENT
DTSTART:20220601T150000Z
DTEND:20230601T190000Z
X-MICROSOFT-CDO-ALLDAYEVENT:FALSE
SUMMARY:DAILY Group Fitness Classes - Palisades Studio & Performing Arts
DESCRIPTION:Palisades Studio is Launching Group Fitness Classes on June 1\, 2022 to serve the communities of Palisades and Malibu. Classes offered in Dance\, Yoga\, Sculpting\, Conditioning\, Stretch\, Salsa and More! Suitable for all ages.
X-ALT-DESC;FMTTYPE=text/html:<span style="font-size:16px\;">Palisades Studio is Launching Group Fitness Classes on June 1\, 2022 to serve the communities of Palisades and Malibu. Classes offered in Dance\, Yoga\, Sculpting\, Conditioning\, Stretch\, Salsa and More! Suitable for all ages.</span>
LOCATION:522 Palisades Dr. Pacific Palisades\, CA 90272
UID:e.2860.10731
SEQUENCE:3
DTSTAMP:20260419T213739Z
URL:https://www.malibu.org/events/details/daily-group-fitness-classes-palisades-studio-performing-arts-10731
END:VEVENT

END:VCALENDAR
