BEGIN:VCALENDAR
VERSION:2.0
PRODID:-//ChamberMaster//Event Calendar 2.0//EN
METHOD:PUBLISH
X-PUBLISHED-TTL:P3D
REFRESH-INTERVAL:P3D
CALSCALE:GREGORIAN
BEGIN:VEVENT
DTSTART:20190914T170000Z
DTEND:20190914T180000Z
X-MICROSOFT-CDO-ALLDAYEVENT:FALSE
SUMMARY:Free Beach Qigong
DESCRIPTION:Relax\, unwind and recharge on the beach with gentle Qigong exercises\, a healing system which includes slow flowing movements inspired by nature. Meet on the west end of the beach at Malibu Point. No experience necessary.
X-ALT-DESC;FMTTYPE=text/html:Relax\, unwind and recharge on the beach with gentle Qigong exercises\, a healing system which includes slow flowing movements inspired by nature. Meet on the west end of the beach at Malibu Point. No experience necessary.
LOCATION:West End of Malibu Lagoon State Beach
UID:e.2860.7030
SEQUENCE:3
DTSTAMP:20260420T031436Z
URL:https://www.malibu.org/events/details/free-beach-qigong-7030
END:VEVENT

END:VCALENDAR
