BEGIN:VCALENDAR
VERSION:2.0
PRODID:-//ChamberMaster//Event Calendar 2.0//EN
METHOD:PUBLISH
X-PUBLISHED-TTL:P3D
REFRESH-INTERVAL:P3D
CALSCALE:GREGORIAN
BEGIN:VEVENT
DTSTART:20251029T190000Z
DTEND:20251029T203000Z
X-MICROSOFT-CDO-ALLDAYEVENT:FALSE
SUMMARY:Grand Opening & Official Ribbon Cutting CeremonyMalibu Colony Pilates Studio
DESCRIPTION:Malibu's gains a new addition with the grand opening of Malibu Colony Pilates\, this is a new studio dedicated to fitness\, rehabilitation\, and community well-being. The studio is owned and operated by Haylee Joseph\, a third-generation Malibu resident with a deep connections to serving her hometown. Malibu Colony Pilates is set to become a great health resource for residents looking to prioritize their health and wellness. Haylee felt strongly about establishing the studio post-fire as a positive\, new contribution run by locals for the community's friends and neighbors.
X-ALT-DESC;FMTTYPE=text/html:Malibu&rsquo\;s gains a new addition with the grand opening of Malibu Colony Pilates\, this is a new studio dedicated to fitness\, rehabilitation\, and community well-being. The studio is owned and operated by Haylee Joseph\, a third-generation Malibu resident with a deep connections to serving her hometown. Malibu Colony Pilates is set to become a great health resource for residents looking to prioritize their health and wellness. Haylee felt strongly about establishing the studio post-fire as a positive\, new contribution run by locals for the community&#39\;s friends and neighbors.
LOCATION:Malibu Colony Plaza Address: 23755 Malibu Rd. Suite 700\, Malibu\, CA 90265
UID:e.2860.18785
SEQUENCE:3
DTSTAMP:20260419T213153Z
URL:https://www.malibu.org/events/details/grand-opening-official-ribbon-cutting-ceremonymalibu-colony-pilates-studio-18785
END:VEVENT

END:VCALENDAR
