BEGIN:VCALENDAR
VERSION:2.0
PRODID:-//ChamberMaster//Event Calendar 2.0//EN
METHOD:PUBLISH
X-PUBLISHED-TTL:P3D
REFRESH-INTERVAL:P3D
CALSCALE:GREGORIAN
BEGIN:VEVENT
DTSTART:20191113T160000Z
DTEND:20191113T170000Z
X-MICROSOFT-CDO-ALLDAYEVENT:FALSE
SUMMARY:POSTPONED Malibu Rotary Club Meeting
DESCRIPTION:Live Rotary Club events are postponed until further notice.
X-ALT-DESC;FMTTYPE=text/html:Live Rotary Club events are postponed until further notice.
LOCATION:Pepperdine Campus Villa Grazziadio\, Drescher Campus 24255 Pacific Coast Hwy\, Room LC 152 Malibu\, CA 90265
UID:e.2860.3717
SEQUENCE:3
DTSTAMP:20260423T103405Z
URL:https://www.malibu.org/events/details/rotary-club-meeting-11-13-2019-3717
END:VEVENT

END:VCALENDAR
