BEGIN:VCALENDAR
VERSION:2.0
PRODID:-//ChamberMaster//Event Calendar 2.0//EN
METHOD:PUBLISH
X-PUBLISHED-TTL:P3D
REFRESH-INTERVAL:P3D
CALSCALE:GREGORIAN
BEGIN:VEVENT
DTSTART:20260321T010000Z
DTEND:20260425T020000Z
X-MICROSOFT-CDO-ALLDAYEVENT:FALSE
SUMMARY:Soundbath for Peaceful Relaxation
DESCRIPTION:Join us for our monthly calming sound bath at the PCRC to support peaceful relaxation   where the mind softens\, the body relaxes\, and the breath slows. Through the healing sound vibrations of gongs\, Tibetan bowls\, crystal singing bowls and chimes\, you'll be immersed in a meditative soundscape that supports relaxation and emotional ease. Leave feeling renewed\, balanced\, and connected.
X-ALT-DESC;FMTTYPE=text/html:Join us for our monthly calming sound bath at the PCRC to support peaceful relaxation &mdash\; where the mind softens\, the body relaxes\, and the breath slows. Through the healing sound vibrations of gongs\, Tibetan bowls\, crystal singing bowls and chimes\, you&rsquo\;ll be immersed in a meditative soundscape that supports relaxation and emotional ease. Leave feeling renewed\, balanced\, and connected.
LOCATION:3212 Nebraska Ave\, Santa Monica
UID:e.2860.18819
SEQUENCE:3
DTSTAMP:20260423T102226Z
URL:https://www.malibu.org/events/details/soundbath-for-peaceful-relaxation-18819
END:VEVENT

END:VCALENDAR
