BEGIN:VCALENDAR
VERSION:2.0
PRODID:-//ChamberMaster//Event Calendar 2.0//EN
METHOD:PUBLISH
X-PUBLISHED-TTL:P3D
REFRESH-INTERVAL:P3D
CALSCALE:GREGORIAN
BEGIN:VEVENT
DTSTART:20221130T013000Z
DTEND:20221130T043000Z
X-MICROSOFT-CDO-ALLDAYEVENT:FALSE
SUMMARY:Sunset Mixer "Giving Back at MALIBU GIVES "
DESCRIPTION:Sunset Mixer "Giving Back at MALIBU GIVES"\n\nJoin us for a very special Sunset Mixer at the gorgeous venue "MALIBU GIVES" and enjoy catered treats and sips.  We will be treated with sound baths and enjoy some of the most beautiful giant crystal formations in the world.  Don't miss this very special holiday mixer.\n\n\n\nBring your business cards for our fun raffle!
X-ALT-DESC;FMTTYPE=text/html:<h1><span style="color:#6633cc\;">Sunset Mixer &quot\;Giving Back at MALIBU GIVES&quot\;</span></h1>\n\n<p><span style="color:#6633cc\;">Join us for a very special Sunset Mixer at the gorgeous venue &quot\;MALIBU GIVES&quot\; and enjoy catered treats and sips.&nbsp\; We will be treated with sound baths and enjoy some of the most beautiful giant crystal formations in the world.&nbsp\; Don&#39\;t miss this very special holiday mixer.<br />\n<br />\nBring your business cards for our fun raffle!</span></p>\n
LOCATION:29160 Heathercliff Rd Suite 250\, Malibu!
UID:e.2860.10998
SEQUENCE:3
DTSTAMP:20260419T131223Z
URL:https://www.malibu.org/events/details/sunset-mixer-giving-back-at-malibu-gives-10998
END:VEVENT

END:VCALENDAR
