BEGIN:VCALENDAR
VERSION:2.0
PRODID:-//ChamberMaster//Event Calendar 2.0//EN
METHOD:PUBLISH
X-PUBLISHED-TTL:P3D
REFRESH-INTERVAL:P3D
CALSCALE:GREGORIAN
BEGIN:VEVENT
DTSTART:20220621T000000Z
DTEND:20220621T020000Z
X-MICROSOFT-CDO-ALLDAYEVENT:FALSE
SUMMARY:Sunset Mixer - Location TBA
DESCRIPTION:
X-ALT-DESC;FMTTYPE=text/html:
LOCATION:
UID:e.2860.10734
SEQUENCE:3
DTSTAMP:20260424T101339Z
URL:https://www.malibu.org/events/details/sunset-mixer-location-tba-10734
END:VEVENT

END:VCALENDAR
